BEGIN:VCALENDAR
VERSION:2.0
PRODID:-//wp-events-plugin.com//7.2.3.1//EN
BEGIN:VEVENT
UID:6@theworldinme.nl
DTSTART:20250406T123000Z
DTEND:20250406T150000Z
DTSTAMP:20250316T211406Z
URL:https://theworldinme.nl/events/workshop-authentiek-leven/
SUMMARY:Workshop: authentiek leven
DESCRIPTION:Inloop: 13:15\nStart: 13:30\nEinde: 16:00\nBetaling: Cash bij e
 ntree\n\nAls u deze workshop samen boekt met deze klankschalen meditatie\,
  is de prijs samen slechts € 30\,-\n\nMeer informatie over deze workshop
 :\n\nhttps://theworldinme.nl/dennis/workshop-authentiek-leven/
ATTACH;FMTTYPE=image/jpeg:https://theworldinme.nl/wp-content/uploads/2025/
 03/Boeda1.jpg
CATEGORIES:Workshops
LOCATION:Spieghelwijck\, Iepenlaan 354-A\, Bussum\, 1406 RG\, Nederland
X-APPLE-STRUCTURED-LOCATION;VALUE=URI;X-ADDRESS=Iepenlaan 354-A\, Bussum\, 
 1406 RG\, Nederland;X-APPLE-RADIUS=100;X-TITLE=Spieghelwijck:geo:0,0
END:VEVENT
END:VCALENDAR